BEGIN:VCALENDAR
VERSION:2.0
PRODID:-//West Denver Trout Unlimited - ECPv6.15.14//NONSGML v1.0//EN
CALSCALE:GREGORIAN
METHOD:PUBLISH
X-WR-CALNAME:West Denver Trout Unlimited
X-ORIGINAL-URL:https://westdenvertu.org
X-WR-CALDESC:Events for West Denver Trout Unlimited
REFRESH-INTERVAL;VALUE=DURATION:PT1H
X-Robots-Tag:noindex
X-PUBLISHED-TTL:PT1H
BEGIN:VTIMEZONE
TZID:America/Denver
BEGIN:DAYLIGHT
TZOFFSETFROM:-0700
TZOFFSETTO:-0600
TZNAME:MDT
DTSTART:20250309T090000
END:DAYLIGHT
BEGIN:STANDARD
TZOFFSETFROM:-0600
TZOFFSETTO:-0700
TZNAME:MST
DTSTART:20251102T080000
END:STANDARD
BEGIN:DAYLIGHT
TZOFFSETFROM:-0700
TZOFFSETTO:-0600
TZNAME:MDT
DTSTART:20260308T090000
END:DAYLIGHT
BEGIN:STANDARD
TZOFFSETFROM:-0600
TZOFFSETTO:-0700
TZNAME:MST
DTSTART:20261101T080000
END:STANDARD
BEGIN:DAYLIGHT
TZOFFSETFROM:-0700
TZOFFSETTO:-0600
TZNAME:MDT
DTSTART:20270314T090000
END:DAYLIGHT
BEGIN:STANDARD
TZOFFSETFROM:-0600
TZOFFSETTO:-0700
TZNAME:MST
DTSTART:20271107T080000
END:STANDARD
END:VTIMEZONE
BEGIN:VEVENT
DTSTART;TZID=America/Denver:20260206T090000
DTEND;TZID=America/Denver:20260208T160000
DTSTAMP:20260424T112019
CREATED:20251121T201601Z
LAST-MODIFIED:20251121T201753Z
UID:5358-1770368400-1770566400@westdenvertu.org
SUMMARY:Fly Fishing Show 2026
DESCRIPTION:The “all about fly fishing ” show. We will have a large presence and sell our Fantasy Raffle Tickets
URL:https://westdenvertu.org/event/fly-fishing-show-2026-2/
LOCATION:Gaylord Rockies Convention Center\, 6700 North Gaylord Rockies Boulevard\, Aurora\, Colorado\, 80019\, United States
CATEGORIES:The Fly Fishing Show
END:VEVENT
END:VCALENDAR