BEGIN:VCALENDAR
VERSION:2.0
PRODID:-//West Denver Trout Unlimited - ECPv6.15.14//NONSGML v1.0//EN
CALSCALE:GREGORIAN
METHOD:PUBLISH
X-WR-CALNAME:West Denver Trout Unlimited
X-ORIGINAL-URL:https://westdenvertu.org
X-WR-CALDESC:Events for West Denver Trout Unlimited
REFRESH-INTERVAL;VALUE=DURATION:PT1H
X-Robots-Tag:noindex
X-PUBLISHED-TTL:PT1H
BEGIN:VTIMEZONE
TZID:America/Denver
BEGIN:DAYLIGHT
TZOFFSETFROM:-0700
TZOFFSETTO:-0600
TZNAME:MDT
DTSTART:20210314T090000
END:DAYLIGHT
BEGIN:STANDARD
TZOFFSETFROM:-0600
TZOFFSETTO:-0700
TZNAME:MST
DTSTART:20211107T080000
END:STANDARD
BEGIN:DAYLIGHT
TZOFFSETFROM:-0700
TZOFFSETTO:-0600
TZNAME:MDT
DTSTART:20220313T090000
END:DAYLIGHT
BEGIN:STANDARD
TZOFFSETFROM:-0600
TZOFFSETTO:-0700
TZNAME:MST
DTSTART:20221106T080000
END:STANDARD
BEGIN:DAYLIGHT
TZOFFSETFROM:-0700
TZOFFSETTO:-0600
TZNAME:MDT
DTSTART:20230312T090000
END:DAYLIGHT
BEGIN:STANDARD
TZOFFSETFROM:-0600
TZOFFSETTO:-0700
TZNAME:MST
DTSTART:20231105T080000
END:STANDARD
BEGIN:DAYLIGHT
TZOFFSETFROM:-0700
TZOFFSETTO:-0600
TZNAME:MDT
DTSTART:20240310T090000
END:DAYLIGHT
BEGIN:STANDARD
TZOFFSETFROM:-0600
TZOFFSETTO:-0700
TZNAME:MST
DTSTART:20241103T080000
END:STANDARD
BEGIN:DAYLIGHT
TZOFFSETFROM:-0700
TZOFFSETTO:-0600
TZNAME:MDT
DTSTART:20250309T090000
END:DAYLIGHT
BEGIN:STANDARD
TZOFFSETFROM:-0600
TZOFFSETTO:-0700
TZNAME:MST
DTSTART:20251102T080000
END:STANDARD
BEGIN:DAYLIGHT
TZOFFSETFROM:-0700
TZOFFSETTO:-0600
TZNAME:MDT
DTSTART:20260308T090000
END:DAYLIGHT
BEGIN:STANDARD
TZOFFSETFROM:-0600
TZOFFSETTO:-0700
TZNAME:MST
DTSTART:20261101T080000
END:STANDARD
BEGIN:DAYLIGHT
TZOFFSETFROM:-0700
TZOFFSETTO:-0600
TZNAME:MDT
DTSTART:20270314T090000
END:DAYLIGHT
BEGIN:STANDARD
TZOFFSETFROM:-0600
TZOFFSETTO:-0700
TZNAME:MST
DTSTART:20271107T080000
END:STANDARD
END:VTIMEZONE
BEGIN:VEVENT
DTSTART;TZID=America/Denver:20260421T180000
DTEND;TZID=America/Denver:20260421T200000
DTSTAMP:20260424T023126
CREATED:20260109T212945Z
LAST-MODIFIED:20260408T172352Z
UID:5284-1776794400-1776801600@westdenvertu.org
SUMMARY:Fly Tyers Nite Out
DESCRIPTION:Fly Tyers Nite Out meets monthly at New Image Brewing at 9505 W 44th Avenue in Wheat Ridge. We meet the third Tuesday of every month from 6:30 to 8 pm. All levels of fly tyers are welcome for a night of socializing and fly tying. For more information\, reach out to Fred Portillo.
URL:https://westdenvertu.org/event/fly-tyers-nite-out-2/
LOCATION:New Image Brewing\, 9505 W. 44th Ave\, Wheat Ridge\, Colorado\, 80033\, United States
CATEGORIES:Fly Tying
ORGANIZER;CN="Fred Portillo":MAILTO:cpfred@aol.com
END:VEVENT
BEGIN:VEVENT
DTSTART;TZID=America/Denver:20260307T090000
DTEND;TZID=America/Denver:20260307T150000
DTSTAMP:20260424T023126
CREATED:20251122T170158Z
LAST-MODIFIED:20260227T202233Z
UID:5360-1772874000-1772895600@westdenvertu.org
SUMMARY:Fly Tying Clinic March 7 2026
DESCRIPTION:Jefferson County Fairgrounds 15200 West 6th Avenue Golden\, Colorado 80401The 2026 Fly Tying Clinic boasts a huge bucket raffle\, fantasy raffle\, silent auction\, and more!   New to fly tying or have a fly tying question? Visit our Learn to Tie area.  Back for its second year\, don’t miss our “Build a Box promotion”\, where you can build a fly box from your favorite tiers.  With face to face access to some of the top fly tyers in the world demonstrating their signature flies\, this is a Do Not Miss event for the fly fishing enthusiast.  Entry fee required\, hand tied flies for sale from the tiers by coupon only.  Coupon tickets are sold to support WDTU and are used to purchase flies from the tiers. Get 25 coupon tickets for only $20!  \n\n\n\nAdmission at the door $20 Adult or Teen\, Family (3+) $30. Active military and kids 12 and younger admitted free.$5 Discount can be found HERE
URL:https://westdenvertu.org/event/fly-tying-clinic-march-7-2026/
LOCATION:Jefferson County Fairgrounds\, 15200 W 6th Ave\, Golden\, CO\, 80401\, United States
CATEGORIES:Fly Tying,Fly Tying Clinic
ATTACH;FMTTYPE=image/jpeg:https://westdenvertu.org/wp-content/uploads/2019/01/Fly-Clinic-Logo-400x270.jpg
END:VEVENT
BEGIN:VEVENT
DTSTART;TZID=America/Denver:20250715T180000
DTEND;TZID=America/Denver:20250715T200000
DTSTAMP:20260424T023126
CREATED:20250704T163040Z
LAST-MODIFIED:20250704T163041Z
UID:5156-1752602400-1752609600@westdenvertu.org
SUMMARY:Fly Tyers Nite Out
DESCRIPTION:Fly Tyers Nite Out meets monthly at New Image Brewing at 9505 W 44th Avenue in Wheat Ridge. We meet the third Tuesday of every month from 6:30 to 8 pm. All levels of fly tyers are welcome for a night of socializing and fly tying. For more information\, reach out to Fred Portillo.
URL:https://westdenvertu.org/event/fly-tyers-nite-out/
LOCATION:New Image Brewing\, 9505 W. 44th Ave\, Wheat Ridge\, Colorado\, 80033\, United States
CATEGORIES:Fly Tying
ORGANIZER;CN="Fred Portillo":MAILTO:cpfred@aol.com
END:VEVENT
BEGIN:VEVENT
DTSTART;TZID=America/Denver:20250425T000000
DTEND;TZID=America/Denver:20250427T235959
DTSTAMP:20260424T023126
CREATED:20250107T173357Z
LAST-MODIFIED:20250107T180953Z
UID:5115-1745539200-1745798399@westdenvertu.org
SUMMARY:CTU Spring Rendezvous
DESCRIPTION:This is Colorado TU’s annual spring meeting.  It is both a membership meeting and a Board Meeting.  Great opportunity to meet other members and leaders\, and you might even do a little fishing on the Arkansas.
URL:https://westdenvertu.org/event/ctu-spring-rendezvous/
LOCATION:The Scout Hut\, 210 E. Sackett Ave (Riverside Park)\, Salida\, Colorado\, 81201\, United States
CATEGORIES:Fly Tying
END:VEVENT
BEGIN:VEVENT
DTSTART;TZID=America/Denver:20250313T000000
DTEND;TZID=America/Denver:20250313T235959
DTSTAMP:20260424T023126
CREATED:20250107T172445Z
LAST-MODIFIED:20250107T180020Z
UID:5112-1741824000-1741910399@westdenvertu.org
SUMMARY:Colorado Trout Unlimited Annual Gala
DESCRIPTION:The Colorado Trout Unlimited River Stewardship Gala is CTU’s largest fundraising event\, featuring a cocktail hour\, dinner\, live and silent auctions\, raffles\, and speakers. \n\n\n\n\nPurchase GalaTickets Here
URL:https://westdenvertu.org/event/colorado-trout-unlimited-annual-gala/
LOCATION:Denver Museum of Nature and Science\, 2001 Colorado Blvd\, Denver\, Colorado\, 80205\, United States
CATEGORIES:Fly Tying
END:VEVENT
BEGIN:VEVENT
DTSTART;TZID=America/Denver:20240521T183000
DTEND;TZID=America/Denver:20240521T200000
DTSTAMP:20260424T023126
CREATED:20240501T153055Z
LAST-MODIFIED:20240501T153249Z
UID:4923-1716316200-1716321600@westdenvertu.org
SUMMARY:Fly Tyers Night Out
DESCRIPTION:Fly Tyers Nite Out has a new location\, New Image Brewing at 9505 W 44th Avenue in Wheat Ridge. We will meet the third Tuesday of every month from 6:30 to 8 pm. All levels of fly tyers are welcome for a night of socializing and fly tying. For more information\, reach out to Fred Portillo.
URL:https://westdenvertu.org/event/fly-tyers-night-out-5/
LOCATION:New Image Brewing\, 9505 W. 44th Ave\, Wheat Ridge\, Colorado\, 80033\, United States
CATEGORIES:Fly Tying
END:VEVENT
BEGIN:VEVENT
DTSTART;TZID=America/Denver:20240416T183000
DTEND;TZID=America/Denver:20240416T210000
DTSTAMP:20260424T023126
CREATED:20240307T174533Z
LAST-MODIFIED:20240307T174617Z
UID:4904-1713292200-1713301200@westdenvertu.org
SUMMARY:Fly Tyers Night Out
DESCRIPTION:Fly Tyers Nite Out has a new location\, New Image Brewing at 9505 W 44th Avenue in Wheat Ridge. We will meet the third Tuesday of every month from 6:30 to 8 pm. All levels of fly tyers are welcome for a night of socializing and fly tying. For more information\, reach out to Fred Portillo.
URL:https://westdenvertu.org/event/fly-tyers-night-out-4-2/
LOCATION:New Image Brewing\, 9505 W. 44th Ave\, Wheat Ridge\, Colorado\, 80033\, United States
CATEGORIES:Fly Tying
END:VEVENT
BEGIN:VEVENT
DTSTART;TZID=America/Denver:20240319T183000
DTEND;TZID=America/Denver:20240319T210000
DTSTAMP:20260424T023126
CREATED:20231017T193821Z
LAST-MODIFIED:20240306T154854Z
UID:4802-1710873000-1710882000@westdenvertu.org
SUMMARY:Fly Tyers Night Out
DESCRIPTION:Fly Tyers Nite Out has a new location\, New Image Brewing at 9505 W 44th Avenue in Wheat Ridge. We will meet the third Tuesday of every month from 6:30 to 8 pm. All levels of fly tyers are welcome for a night of socializing and fly tying. For more information\, reach out to Fred Portillo.
URL:https://westdenvertu.org/event/fly-tyers-night-out-4/
LOCATION:New Image Brewing\, 9505 W. 44th Ave\, Wheat Ridge\, Colorado\, 80033\, United States
CATEGORIES:Fly Tying
END:VEVENT
BEGIN:VEVENT
DTSTART;TZID=America/Denver:20231219T180000
DTEND;TZID=America/Denver:20231219T210000
DTSTAMP:20260424T023126
CREATED:20231017T193640Z
LAST-MODIFIED:20231017T193642Z
UID:4801-1703008800-1703019600@westdenvertu.org
SUMMARY:Fly Tyers Night Out
DESCRIPTION:All levels of fly tyers are welcome for a night of socializing and fly tying. For more information\, reach out to Fred Portillo.
URL:https://westdenvertu.org/event/fly-tyers-night-out-3/
LOCATION:Discovery Tap House\, 4990 Kipling St\, Wheat Ridge\, Colorado\, 80033\, United States
CATEGORIES:Fly Tying
END:VEVENT
BEGIN:VEVENT
DTSTART;TZID=America/Denver:20231121T180000
DTEND;TZID=America/Denver:20231121T210000
DTSTAMP:20260424T023126
CREATED:20231017T193520Z
LAST-MODIFIED:20231017T193522Z
UID:4800-1700589600-1700600400@westdenvertu.org
SUMMARY:Fly Tyers Night Out
DESCRIPTION:All levels of fly tyers are welcome for a night of socializing and fly tying. For more information\, reach out to Fred Portillo.
URL:https://westdenvertu.org/event/fly-tyers-night-out-2/
LOCATION:Discovery Tap House\, 4990 Kipling St\, Wheat Ridge\, Colorado\, 80033\, United States
CATEGORIES:Fly Tying
END:VEVENT
BEGIN:VEVENT
DTSTART;TZID=America/Denver:20230516T183000
DTEND;TZID=America/Denver:20230516T203000
DTSTAMP:20260424T023126
CREATED:20230315T141058Z
LAST-MODIFIED:20230315T141153Z
UID:4703-1684261800-1684269000@westdenvertu.org
SUMMARY:Fly Tyers Nite Out
DESCRIPTION:West Denver TU is hosting a fly tying night\, led by Fred Portillo. All levels of tiers are welcome. Even if you don’t tie\, come out to socialize\, have a beer\, maybe something to eat\, and have fun.  \n\n\n\nFor more info contact Fred Portillo.  \n\n\n\nThe location is the Discovery Tap House\, Southeast corner of Kipling and 50th. 4990 Kipling St\, Wheat Ridge\, CO 80033). \n\n\n\nDiscovery Tap Room will offer us Happy Hour prices.They do not serve food\, but you can bring your own.Come check it out and meet Karen and Gary\, the friendly owners.
URL:https://westdenvertu.org/event/fly-tyers-nite-out-may-16-2-23/
LOCATION:Discovery Tap House\, 4990 Kipling St\, Wheat Ridge\, Colorado\, 80033\, United States
CATEGORIES:Fly Tying
END:VEVENT
BEGIN:VEVENT
DTSTART;TZID=America/Denver:20230418T183000
DTEND;TZID=America/Denver:20230418T203000
DTSTAMP:20260424T023126
CREATED:20230111T152401Z
LAST-MODIFIED:20230315T140915Z
UID:4617-1681842600-1681849800@westdenvertu.org
SUMMARY:Fly Tyers Nite Out
DESCRIPTION:West Denver TU is hosting a fly tying night\, led by Fred Portillo. All levels of tiers are welcome. Even if you don’t tie\, come out to socialize\, have a beer\, maybe something to eat\, and have fun.  \n\n\n\nFor more info contact Fred Portillo.  \n\n\n\nThe location is the Discovery Tap House\, Southeast corner of Kipling and 50th. 4990 Kipling St\, Wheat Ridge\, CO 80033). \n\n\n\nDiscovery Tap Room will offer us Happy Hour prices.They do not serve food\, but you can bring your own.Come check it out and meet Karen and Gary\, the friendly owners.
URL:https://westdenvertu.org/event/fly-tyers-nite-out-april-18-2023/
LOCATION:Discovery Tap House\, 4990 Kipling St\, Wheat Ridge\, Colorado\, 80033\, United States
CATEGORIES:Fly Tying
END:VEVENT
BEGIN:VEVENT
DTSTART;TZID=America/Denver:20230320T183000
DTEND;TZID=America/Denver:20230320T203000
DTSTAMP:20260424T023126
CREATED:20230315T140622Z
LAST-MODIFIED:20230315T141045Z
UID:4702-1679337000-1679344200@westdenvertu.org
SUMMARY:Fly Tyers Nite Out
DESCRIPTION:West Denver TU is hosting a fly tying night\, led by Fred Portillo. All levels of tiers are welcome. Even if you don’t tie\, come out to socialize\, have a beer\, maybe something to eat\, and have fun.  \n\n\n\nFor more info contact Fred Portillo.  \n\n\n\nThe location is the Discovery Tap House\, Southeast corner of Kipling and 50th. 4990 Kipling St\, Wheat Ridge\, CO 80033). \n\n\n\nDiscovery Tap Room will offer us Happy Hour prices.They do not serve food\, but you can bring your own.Come check it out and meet Karen and Gary\, the friendly owners.
URL:https://westdenvertu.org/event/fly-tyers-nite-out-march-20-2023/
LOCATION:Discovery Tap House\, 4990 Kipling St\, Wheat Ridge\, Colorado\, 80033\, United States
CATEGORIES:Fly Tying
END:VEVENT
BEGIN:VEVENT
DTSTART;TZID=America/Denver:20230222T183000
DTEND;TZID=America/Denver:20230222T203000
DTSTAMP:20260424T023126
CREATED:20230111T152326Z
LAST-MODIFIED:20230111T152352Z
UID:4616-1677090600-1677097800@westdenvertu.org
SUMMARY:Fly Tyers Nite Out
DESCRIPTION:West Denver TU is hosting a fly tying night\, led by Fred Portillo. All levels of tiers are welcome. Even if you don’t tie\, come out to socialize\, have a beer\, maybe something to eat\, and have fun.  \n\n\n\nFor more info contact Fred Portillo.  \n\n\n\nThe location is the Discovery Tap House\, Southeast corner of Kipling and 50th. 4990 Kipling St\, Wheat Ridge\, CO 80033). \n\n\n\nDiscovery Tap Room will offer us Happy Hour prices.They do not serve food\, but you can bring your own.Come check it out and meet Karen and Gary\, the friendly owners.
URL:https://westdenvertu.org/event/fly-tyers-nite-out-october-18-2022-2-copy-copy/
LOCATION:Discovery Tap House\, 4990 Kipling St\, Wheat Ridge\, Colorado\, 80033\, United States
CATEGORIES:Fly Tying
END:VEVENT
BEGIN:VEVENT
DTSTART;TZID=America/Denver:20230117T183000
DTEND;TZID=America/Denver:20230117T203000
DTSTAMP:20260424T023126
CREATED:20230111T151958Z
LAST-MODIFIED:20230111T152233Z
UID:4614-1673980200-1673987400@westdenvertu.org
SUMMARY:Fly Tyers Nite Out
DESCRIPTION:West Denver TU is hosting a fly tying night\, led by Fred Portillo. All levels of tiers are welcome. Even if you don’t tie\, come out to socialize\, have a beer\, maybe something to eat\, and have fun.  \n\n\n\nFor more info contact Fred Portillo.  \n\n\n\nThe location is the Discovery Tap House\, Southeast corner of Kipling and 50th. 4990 Kipling St\, Wheat Ridge\, CO 80033). \n\n\n\nDiscovery Tap Room will offer us Happy Hour prices.They do not serve food\, but you can bring your own.Come check it out and meet Karen and Gary\, the friendly owners.
URL:https://westdenvertu.org/event/fly-tyers-nite-out-october-18-2022-2-copy/
LOCATION:Discovery Tap House\, 4990 Kipling St\, Wheat Ridge\, Colorado\, 80033\, United States
CATEGORIES:Fly Tying
END:VEVENT
BEGIN:VEVENT
DTSTART;TZID=America/Denver:20221220T183000
DTEND;TZID=America/Denver:20221220T203000
DTSTAMP:20260424T023126
CREATED:20221017T222035Z
LAST-MODIFIED:20221017T222141Z
UID:4586-1671561000-1671568200@westdenvertu.org
SUMMARY:Fly Tyers Nite Out
DESCRIPTION:West Denver TU is hosting a fly tying night\, led by Fred Portillo. All levels of tiers are welcome. Even if you don’t tie\, come out to socialize\, have a beer\, maybe something to eat\, and have fun.  \n\n\n\nOctober 18\, 6:30 – 8:30\n\n\n\nFor more info contact Fred Portillo.  \n\n\n\nThe location is the Discovery Tap House\, Southeast corner of Kipling and 50th. 4990 Kipling St\, Wheat Ridge\, CO 80033). \n\n\n\nDiscovery Tap Room will offer us Happy Hour prices.They do not serve food\, but you can bring your own.Come check it out and meet Karen and Gary\, the friendly owners.
URL:https://westdenvertu.org/event/fly-tyers-nite-out-october-18-2022-2/
LOCATION:Discovery Tap House\, 4990 Kipling St\, Wheat Ridge\, Colorado\, 80033\, United States
CATEGORIES:Fly Tying
END:VEVENT
BEGIN:VEVENT
DTSTART;TZID=America/Denver:20221115T183000
DTEND;TZID=America/Denver:20221115T203000
DTSTAMP:20260424T023126
CREATED:20221017T221938Z
LAST-MODIFIED:20221017T222016Z
UID:4585-1668537000-1668544200@westdenvertu.org
SUMMARY:Fly Tyers Nite Out
DESCRIPTION:West Denver TU is hosting a fly tying night\, led by Fred Portillo. All levels of tiers are welcome. Even if you don’t tie\, come out to socialize\, have a beer\, maybe something to eat\, and have fun.  \n\n\n\nOctober 18\, 6:30 – 8:30\n\n\n\nFor more info contact Fred Portillo.  \n\n\n\nThe location is the Discovery Tap House\, Southeast corner of Kipling and 50th. 4990 Kipling St\, Wheat Ridge\, CO 80033). \n\n\n\nDiscovery Tap Room will offer us Happy Hour prices.They do not serve food\, but you can bring your own.Come check it out and meet Karen and Gary\, the friendly owners.
URL:https://westdenvertu.org/event/fly-tyers-nite-out-october-18-2022-copy/
LOCATION:Discovery Tap House\, 4990 Kipling St\, Wheat Ridge\, Colorado\, 80033\, United States
CATEGORIES:Fly Tying
END:VEVENT
BEGIN:VEVENT
DTSTART;TZID=America/Denver:20221018T183000
DTEND;TZID=America/Denver:20221018T203000
DTSTAMP:20260424T023126
CREATED:20221017T221850Z
LAST-MODIFIED:20221017T221853Z
UID:4583-1666117800-1666125000@westdenvertu.org
SUMMARY:Fly Tyers Nite Out
DESCRIPTION:West Denver TU is hosting a fly tying night\, led by Fred Portillo. All levels of tiers are welcome. Even if you don’t tie\, come out to socialize\, have a beer\, maybe something to eat\, and have fun.  \n\n\n\nOctober 18\, 6:30 – 8:30\n\n\n\nFor more info contact Fred Portillo.  \n\n\n\nThe location is the Discovery Tap House\, Southeast corner of Kipling and 50th. 4990 Kipling St\, Wheat Ridge\, CO 80033). \n\n\n\nDiscovery Tap Room will offer us Happy Hour prices.They do not serve food\, but you can bring your own.Come check it out and meet Karen and Gary\, the friendly owners.
URL:https://westdenvertu.org/event/fly-tyers-nite-out-october-18-2022/
LOCATION:Discovery Tap House\, 4990 Kipling St\, Wheat Ridge\, Colorado\, 80033\, United States
CATEGORIES:Fly Tying
END:VEVENT
END:VCALENDAR