BEGIN:VCALENDAR
VERSION:2.0
PRODID:-//West Denver Trout Unlimited - ECPv6.15.14//NONSGML v1.0//EN
CALSCALE:GREGORIAN
METHOD:PUBLISH
X-ORIGINAL-URL:https://westdenvertu.org
X-WR-CALDESC:Events for West Denver Trout Unlimited
REFRESH-INTERVAL;VALUE=DURATION:PT1H
X-Robots-Tag:noindex
X-PUBLISHED-TTL:PT1H
BEGIN:VTIMEZONE
TZID:America/Denver
BEGIN:DAYLIGHT
TZOFFSETFROM:-0700
TZOFFSETTO:-0600
TZNAME:MDT
DTSTART:20220313T090000
END:DAYLIGHT
BEGIN:STANDARD
TZOFFSETFROM:-0600
TZOFFSETTO:-0700
TZNAME:MST
DTSTART:20221106T080000
END:STANDARD
BEGIN:DAYLIGHT
TZOFFSETFROM:-0700
TZOFFSETTO:-0600
TZNAME:MDT
DTSTART:20230312T090000
END:DAYLIGHT
BEGIN:STANDARD
TZOFFSETFROM:-0600
TZOFFSETTO:-0700
TZNAME:MST
DTSTART:20231105T080000
END:STANDARD
BEGIN:DAYLIGHT
TZOFFSETFROM:-0700
TZOFFSETTO:-0600
TZNAME:MDT
DTSTART:20240310T090000
END:DAYLIGHT
BEGIN:STANDARD
TZOFFSETFROM:-0600
TZOFFSETTO:-0700
TZNAME:MST
DTSTART:20241103T080000
END:STANDARD
BEGIN:DAYLIGHT
TZOFFSETFROM:-0700
TZOFFSETTO:-0600
TZNAME:MDT
DTSTART:20250309T090000
END:DAYLIGHT
BEGIN:STANDARD
TZOFFSETFROM:-0600
TZOFFSETTO:-0700
TZNAME:MST
DTSTART:20251102T080000
END:STANDARD
BEGIN:DAYLIGHT
TZOFFSETFROM:-0700
TZOFFSETTO:-0600
TZNAME:MDT
DTSTART:20260308T090000
END:DAYLIGHT
BEGIN:STANDARD
TZOFFSETFROM:-0600
TZOFFSETTO:-0700
TZNAME:MST
DTSTART:20261101T080000
END:STANDARD
BEGIN:DAYLIGHT
TZOFFSETFROM:-0700
TZOFFSETTO:-0600
TZNAME:MDT
DTSTART:20270314T090000
END:DAYLIGHT
BEGIN:STANDARD
TZOFFSETFROM:-0600
TZOFFSETTO:-0700
TZNAME:MST
DTSTART:20271107T080000
END:STANDARD
END:VTIMEZONE
BEGIN:VEVENT
DTSTART;TZID=America/Denver:20260401T173000
DTEND;TZID=America/Denver:20260401T193000
DTSTAMP:20260423T203117
CREATED:20260308T212307Z
LAST-MODIFIED:20260308T212403Z
UID:5440-1775064600-1775071800@westdenvertu.org
SUMMARY:April 1 Chapter Meeting
DESCRIPTION:We will be holding elections of Chapter Officers.  Let us know if you are interested\, or would like to volunteer in some other capacity. \n\n\n\nWe will also have a presentation by our CSU graduate scholarship recipient\, Sam Radosevich. He will discuss his research into the impacts of whirling disease on Colorado River cutthroat trout.
URL:https://westdenvertu.org/event/april-1-chapter-meeting/
LOCATION:Wheat Ridge Recreation Center\, 4005 Kipling St\, Wheat Ridge\, CO\, 80033
CATEGORIES:Chapter Meeting,Conservation,Education
END:VEVENT
BEGIN:VEVENT
DTSTART;TZID=America/Denver:20260221T080000
DTEND;TZID=America/Denver:20260221T140000
DTSTAMP:20260423T203117
CREATED:20260215T225222Z
LAST-MODIFIED:20260215T225616Z
UID:5426-1771660800-1771682400@westdenvertu.org
SUMMARY:River Watch
DESCRIPTION:Spend a day on Clear Creek helping West Denver Trout Unlimited supporting CPW’s Riverwatch program. Volunteers will assist with water quality sampling and basic chemistry. No experience required—just an interest in healthy rivers. Your efforts help protect the Colorado’s precious water. Participation is limited to the first five volunteers. \n\n\n\nContact John Lloyd for more info\, or to reserve a spot.
URL:https://westdenvertu.org/event/river-watch-2/
LOCATION:CO
CATEGORIES:Clear Creek Watershed Restoration,Conservation,Education,River Watch
END:VEVENT
BEGIN:VEVENT
DTSTART;TZID=America/Denver:20260118T090000
DTEND;TZID=America/Denver:20260118T160000
DTSTAMP:20260423T203117
CREATED:20250915T170322Z
LAST-MODIFIED:20260117T173539Z
UID:5291-1768726800-1768752000@westdenvertu.org
SUMMARY:River Watch January
DESCRIPTION:River Watch volunteers will be taking water quality samples on Clear Creek.  If you want to get involved with River Watch\, or just want to see what it’s all about\, join us for a fun outing. \n\n\n\nContact John Lloyd for more info\, or to reserve a spot.
URL:https://westdenvertu.org/event/river-watch-january/
LOCATION:CO
CATEGORIES:Clear Creek Watershed Restoration,Conservation,Education,River Watch
END:VEVENT
BEGIN:VEVENT
DTSTART;TZID=America/Denver:20251108T090000
DTEND;TZID=America/Denver:20251108T160000
DTSTAMP:20260423T203117
CREATED:20250915T170151Z
LAST-MODIFIED:20250915T170312Z
UID:5290-1762592400-1762617600@westdenvertu.org
SUMMARY:River Watch November
DESCRIPTION:River Watch volunteers will be taking water quality samples on Clear Creek.  If you want to get involved with River Watch\, or just want to see what it’s all about\, join us for a fun outing. \n\n\n\nContact John Lloyd for more info\, or to reserve a spot.
URL:https://westdenvertu.org/event/river-watch-november/
LOCATION:CO
CATEGORIES:Clear Creek Watershed Restoration,Conservation,Education,River Watch
END:VEVENT
BEGIN:VEVENT
DTSTART;TZID=America/Denver:20251105T173000
DTEND;TZID=America/Denver:20251105T193000
DTSTAMP:20260423T203117
CREATED:20251001T224530Z
LAST-MODIFIED:20251013T165100Z
UID:5275-1762363800-1762371000@westdenvertu.org
SUMMARY:November 5 Chapter Meeting
DESCRIPTION:Guest Speaker\, Noel Clark\, our CSU scholarship recipient\, will discuss her research. \n\n\n\nNoel is a Ph.D. student in the Graduate Degree Program in Ecology and the Fish\, Wildlife & Conservation Biology department at Colorado State University in Fort Collins. \n\n\n\nHer dissertation research is focused on salmonid population responses to a river restoration experiment in Southern Hokkaido\, Japan in collaboration with Hokkaido University. \n\n\n\nCome by at 5:30 for social time. The meeting starts at 6 pm. Admittance is free\, refreshments with donation.
URL:https://westdenvertu.org/event/november-5-chapter-meeting/
LOCATION:Wheat Ridge Recreation Center\, 4005 Kipling St\, Wheat Ridge\, CO\, 80033
CATEGORIES:Chapter Meeting,Education
END:VEVENT
BEGIN:VEVENT
DTSTART;TZID=America/Denver:20251025T090000
DTEND;TZID=America/Denver:20251025T160000
DTSTAMP:20260423T203117
CREATED:20250915T165829Z
LAST-MODIFIED:20250915T170004Z
UID:5289-1761382800-1761408000@westdenvertu.org
SUMMARY:River Watch October
DESCRIPTION:River Watch volunteers will be taking water quality samples on Clear Creek.  If you want to get involved with River Watch\, or just want to see what it’s all about\, join us for a fun outing. \n\n\n\nContact John Lloyd for more info\, or to reserve a spot.
URL:https://westdenvertu.org/event/river-watch-october/
LOCATION:CO
CATEGORIES:Clear Creek Watershed Restoration,Conservation,Education,River Watch
END:VEVENT
BEGIN:VEVENT
DTSTART;TZID=America/Denver:20251001T180000
DTEND;TZID=America/Denver:20251001T200000
DTSTAMP:20260423T203117
CREATED:20250813T203237Z
LAST-MODIFIED:20250813T204242Z
UID:5259-1759341600-1759348800@westdenvertu.org
SUMMARY:October 1 Chapter Meeting
DESCRIPTION:Check out the Vista at Applewood Golf Course\, our new fabulous location for the October 1st Chapter Meeting!  The address is 14001 W 32nd Ave\, Golden\, CO 80401.  Social time at 5:30 in the bar.
URL:https://westdenvertu.org/event/october-1-chapter-meeting/
LOCATION:CO
CATEGORIES:Chapter Meeting,Education
END:VEVENT
BEGIN:VEVENT
DTSTART;TZID=America/Denver:20251001T073000
DTEND;TZID=America/Denver:20251001T170000
DTSTAMP:20260423T203117
CREATED:20250907T215157Z
LAST-MODIFIED:20250907T220604Z
UID:5271-1759303800-1759338000@westdenvertu.org
SUMMARY:Windy Peak Volunteer Opps
DESCRIPTION:Our Windy Peak sessions are in high demand by the 6th grade teachers at Jeffco’s Windy Peak Outdoor Lab. We need two helpers for October 1. No\, you don’t have to be a fly tyer. Contact Bob Becker for more information\, or to sign up!
URL:https://westdenvertu.org/event/windy-peak-volunteer-opps/
LOCATION:CO
CATEGORIES:Chapter Meeting,Education
END:VEVENT
BEGIN:VEVENT
DTSTART;TZID=America/Denver:20250927T090000
DTEND;TZID=America/Denver:20250927T130000
DTSTAMP:20260423T203117
CREATED:20250907T224124Z
LAST-MODIFIED:20250907T224932Z
UID:5282-1758963600-1758978000@westdenvertu.org
SUMMARY:Clear Creek Cleanup/National Public Lands Day Event
DESCRIPTION:Mark your calendar! As part of National Public Lands Day\, we are helping with this year’s large cleanup effort on Clear Creek. The Chapter will have a booth at the after party and also donate a rod and reel outfit as the after party raffle grand prize. \n\n\n\nTo volunteer\, register at offero.jeffco.us. After you register and sign the waiver you will be able to reserve a volunteer slot.
URL:https://westdenvertu.org/event/clear-creek-cleanup-national-public-lands-day-event/
LOCATION:CO
CATEGORIES:Clear Creek Cleanup,Conservation,Education
END:VEVENT
BEGIN:VEVENT
DTSTART;TZID=America/Denver:20250920T090000
DTEND;TZID=America/Denver:20250920T160000
DTSTAMP:20260423T203117
CREATED:20250913T210331Z
LAST-MODIFIED:20250915T165755Z
UID:5266-1758358800-1758384000@westdenvertu.org
SUMMARY:River Watch
DESCRIPTION:River Watch volunteers will be taking water quality samples on Clear Creek.  If you want to get involved with River Watch\, or just want to see what it’s all about\, join us for a fun outing. \n\n\n\nContact John Lloyd for more info\, or to reserve a spot.
URL:https://westdenvertu.org/event/river-watch/
LOCATION:CO
CATEGORIES:Clear Creek Watershed Restoration,Conservation,Education,River Watch
END:VEVENT
BEGIN:VEVENT
DTSTART;TZID=America/Denver:20240928T000000
DTEND;TZID=America/Denver:20240928T235959
DTSTAMP:20260423T203117
CREATED:20240902T173625Z
LAST-MODIFIED:20240902T174838Z
UID:4998-1727481600-1727567999@westdenvertu.org
SUMMARY:Clear Creek Cleanup/National Public Lands Day Events
DESCRIPTION:Mark your calendar! As part of National Public Lands Day\, we are helping with this year’s large cleanup effort on Clear Creek. The Chapter will have a booth at the after party and also donate a rod and reel outfit as the after party raffle grand prize. \n\n\n\nTo volunteer\, register at offero.jeffco.us. QR code and link on the flyer below. Click on “Calendar” and then “Participation Opportunities” to see the various September 28th projects.
URL:https://westdenvertu.org/event/clear-creek-cleanup-national-public-lands-day-events/
LOCATION:CO
CATEGORIES:Clear Creek Cleanup,Conservation,Education
END:VEVENT
BEGIN:VEVENT
DTSTART;TZID=America/Denver:20240608T083000
DTEND;TZID=America/Denver:20240608T123000
DTSTAMP:20260423T203117
CREATED:20240503T153145Z
LAST-MODIFIED:20240503T153433Z
UID:4675-1717835400-1717849800@westdenvertu.org
SUMMARY:Let’s Go Camping - City of Lakewood
DESCRIPTION:Volunteers Needed – Help A First Timer Catch A Fish!\n\n\n\nLakewood will be supplying spinning rods for the kids to take home\, volunteers will be supplied with a sun canopy\, a table\, bait and water containers. Volunteers will get free entry into Bear Creel Lake Park. Tell the person at the gate that you are there assisting with the event. \n\n\n\nWe suggest bringing the usual stuff: sunscreen\, fishing pliers\, knife/line nippers\, fishing gloves to handle pan fish\, net\, water\, etc. You may want to consider bringing a camp chair to both events. \n\n\n\nWe will be managing the fishing portion of the weekend for first time campers. Please arrive at Bear Creek Lake Park between 7:30 and 8:00am to the Archery Range lot and make your way to Turtle Pond. This Turtle Pond location will be the same as years prior. The Turtle Pond event at Bear Creek Lake Park will have limited parking. John is encouraging carpooling if possible. He lives near the park by Kipling & Jewell & can take several volunteers from his home. Let him know if you have an interest. At the Park entrance\, tell them that you are working at the event for free entry. \n\n\n\nContact John Semich if you are available and would like to get involved. \n\n\n\n(Cell) 303-550-1380 (E Mail) johnsemich@comcast.net
URL:https://westdenvertu.org/event/lets-go-camping-city-of-lakewood/
LOCATION:Lake Lehow\, 11250 Waterton Rd\, Littleton\, CO\, United States
CATEGORIES:Education,Women's Fly Fishing Class
ATTACH;FMTTYPE=image/jpeg:https://westdenvertu.org/wp-content/uploads/2015/10/CSUmtncampus.jpg
END:VEVENT
BEGIN:VEVENT
DTSTART;TZID=America/Denver:20240601T090000
DTEND;TZID=America/Denver:20240601T120000
DTSTAMP:20260423T203117
CREATED:20240503T153206Z
LAST-MODIFIED:20240503T153206Z
UID:4672-1717232400-1717243200@westdenvertu.org
SUMMARY:Let’s Go Fishing - City of Lakewood
DESCRIPTION:Volunteers Needed –  Help a Kid Catch a Fish! \n\n\n\nThe location is Bear Creek Lake Park\, Lower Pelican Point. Please arrive between 8:00 and 8:30. Parking will be located at the Pelican Point shelter and the event will be down the hill along the shoreline (near the fishing platform). Up to 75 individuals may attend. \n\n\n\nLakewood will be supplying spinning rods for the kids to take home\, volunteers will be supplied with a sun canopy\, a table\, bait and water containers. Volunteers will get free entry into Bear Creel Lake Park. Tell the person at the gate that you are there assisting with the event. \n\n\n\nWe suggest bringing the usual stuff: sunscreen\, fishing pliers\, knife/line nippers\, fishing gloves to handle pan fish\, net\, water\, etc. You may want to consider bringing a camp chair to both events. \n\n\n\nContact John Semich if you are available and would like to get involved. \n\n\n\n(Cell) 303-550-1380 (E Mail) johnsemich@comcast.net
URL:https://westdenvertu.org/event/lets-go-fishing-city-of-lakewood/
LOCATION:Lake Lehow\, 11250 Waterton Rd\, Littleton\, CO\, United States
CATEGORIES:Education,Women's Fly Fishing Class
ATTACH;FMTTYPE=image/jpeg:https://westdenvertu.org/wp-content/uploads/2023/02/IMG_1707.jpg
END:VEVENT
BEGIN:VEVENT
DTSTART;TZID=America/Denver:20240403T173000
DTEND;TZID=America/Denver:20240403T200000
DTSTAMP:20260423T203117
CREATED:20240307T173208Z
LAST-MODIFIED:20240307T175012Z
UID:4898-1712165400-1712174400@westdenvertu.org
SUMMARY:Chapter Meeting
DESCRIPTION:The meeting will feature a presentation by Katrina Hettinger\, Trout Unlimited’s Front Range Abandoned Mine Lands Project Manager. She will be discussing her work in abandoned mines pollution mitigation. \n\n\n\n \n\n\n\n\n﻿Come by at 5:30 for social time. The meeting starts at 6 pm. Admittance is free\, refreshments with donation.
URL:https://westdenvertu.org/event/chapter-meeting-2/
LOCATION:Wheat Ridge Recreation Center\, 4005 Kipling St\, Wheat Ridge\, CO\, 80033
CATEGORIES:Chapter Meeting,Clear Creek Watershed Restoration,Conservation,Education
ATTACH;FMTTYPE=image/jpeg:https://westdenvertu.org/wp-content/uploads/2024/03/katrina.jpg
END:VEVENT
BEGIN:VEVENT
DTSTART;TZID=America/Denver:20230507T090000
DTEND;TZID=America/Denver:20230507T130000
DTSTAMP:20260423T203117
CREATED:20230208T160938Z
LAST-MODIFIED:20230208T161928Z
UID:4653-1683450000-1683464400@westdenvertu.org
SUMMARY:Women's Fly Fishing 101 Clinic
DESCRIPTION:Colorado Parks and Wildlife\, Colorado Women Fly Fishers\, and West Denver TU are teaming up to offer a free beginning class in fly fishing. This class is taught by women for beginning women anglers.No equipment\, license\, or prior experience needed.  Learn the basics or improve your fly fishing skills.  \n\n\n\nThe CPW link for female participants to register for the May 7th event is now open: \n\n\n\nhttps://www.register-ed.com/events/view/193697
URL:https://westdenvertu.org/event/womens-fly-fishing-101-clinic/
LOCATION:Lake Lehow\, 11250 Waterton Rd\, Littleton\, CO\, United States
CATEGORIES:Education,Women's Fly Fishing Class
ATTACH;FMTTYPE=image/jpeg:https://westdenvertu.org/wp-content/uploads/2023/02/DSC_0864-scaled.jpg
END:VEVENT
BEGIN:VEVENT
DTSTART;TZID=America/Denver:20230506T090000
DTEND;TZID=America/Denver:20230506T130000
DTSTAMP:20260423T203117
CREATED:20230208T160701Z
LAST-MODIFIED:20230214T004614Z
UID:4651-1683363600-1683378000@westdenvertu.org
SUMMARY:Fly Fishing 101 Clinic\, May 5
DESCRIPTION:Colorado Parks and Wildlife\, with West Denver TU’s help\, is offering a free beginning class in fly fishing.  Bring your own equipment\, or use equipment provided by CPW. No license needed.  Learn the basics or improve your fly fishing skills. \n\n\n\nRegistration is available at this link.
URL:https://westdenvertu.org/event/fly-fishing-101-clinic-cmau-5/
LOCATION:Lake Lehow\, 11250 Waterton Rd\, Littleton\, CO\, United States
CATEGORIES:Education
END:VEVENT
BEGIN:VEVENT
DTSTART;TZID=America/Denver:20230408T090000
DTEND;TZID=America/Denver:20230408T130000
DTSTAMP:20260423T203117
CREATED:20230208T155831Z
LAST-MODIFIED:20230214T004202Z
UID:4645-1680944400-1680958800@westdenvertu.org
SUMMARY:Fly Fishing 101 Clinic
DESCRIPTION:Colorado Parks and Wildlife\, with West Denver TU’s help\, is offering a free beginning class in fly fishing.  Bring your own equipment\, or use equipment provided by CPW. No license needed.  Learn the basics or improve your fly fishing skills. \n\n\n\nRegistration is available at this link.
URL:https://westdenvertu.org/event/fly-fishing-101-clinic/
LOCATION:Lake Lehow\, 11250 Waterton Rd\, Littleton\, CO\, United States
CATEGORIES:Clear Creek Water Sampling,Education
ATTACH;FMTTYPE=image/jpeg:https://westdenvertu.org/wp-content/uploads/2023/02/DSC_0864-scaled.jpg
END:VEVENT
END:VCALENDAR